BEGIN:VCALENDAR
VERSION:2.0
PRODID:-//MoreDirt v1.0//EN
BEGIN:VEVENT
DTSTAMP:20150730T130000Z
ORGANIZER;CN=Focal Events:MAILTO:contact@focal.events
STATUS:CONFIRMED
UID:MORESPORTSNETWORK6710
DTSTART:20260710T080000Z
DTEND:20260712T120000Z
SUMMARY:Gravel Rocks 2026
DESCRIPTION:Gravel Rocks 2026 - more details: https://www.moredirt.com/event/6710
X-ALT-DESC;FMTTYPE=text/html:Gravel Rocks 2026 - more details: https://www.moredirt.com/event/6710
LOCATION:
END:VEVENT
END:VCALENDAR