BEGIN:VCALENDAR
VERSION:2.0
PRODID:-//MoreDirt v1.0//EN
BEGIN:VEVENT
DTSTAMP:20150730T130000Z
ORGANIZER;CN=Focal Events:MAILTO:
STATUS:CONFIRMED
UID:MORESPORTSNETWORK6709
DTSTART:20260529T080000Z
DTEND:20260530T120000Z
SUMMARY:Frontier 300 2026
DESCRIPTION:Frontier 300 2026 - more details: https://www.moredirt.com/event/6709
X-ALT-DESC;FMTTYPE=text/html:Frontier 300 2026 - more details: https://www.moredirt.com/event/6709
LOCATION:
END:VEVENT
END:VCALENDAR