BEGIN:VCALENDAR
VERSION:2.0
PRODID:-//MoreDirt v1.0//EN
BEGIN:VEVENT
DTSTAMP:20150730T130000Z
ORGANIZER;CN=Gorrick MBC:MAILTO:
STATUS:CONFIRMED
UID:MORESPORTSNETWORK6704
DTSTART:20260201T080000+0000
DTEND:20260201T120000+0000
SUMMARY:Brass Monkeys 3 The Winter Warmer
DESCRIPTION:Brass Monkeys 3 The Winter Warmer - more details: https://www.moredirt.com/event/6704
X-ALT-DESC;FMTTYPE=text/html:Brass Monkeys 3 The Winter Warmer - more details: https://www.moredirt.com/event/6704
LOCATION:
END:VEVENT
END:VCALENDAR