BEGIN:VCALENDAR
VERSION:2.0
PRODID:-//MoreDirt v1.0//EN
BEGIN:VEVENT
DTSTAMP:20150730T130000Z
ORGANIZER;CN=Gorrick MBC:MAILTO:
STATUS:CONFIRMED
UID:MORESPORTSNETWORK6703
DTSTART:20260104T080000+0000
DTEND:20260104T120000+0000
SUMMARY:Brass Monkeys 2 The New Year Hangover
DESCRIPTION:Brass Monkeys 2 The New Year Hangover - more details: https://www.moredirt.com/event/6703
X-ALT-DESC;FMTTYPE=text/html:Brass Monkeys 2 The New Year Hangover - more details: https://www.moredirt.com/event/6703
LOCATION:
END:VEVENT
END:VCALENDAR