BEGIN:VCALENDAR
VERSION:2.0
PRODID:-//MoreDirt v1.0//EN
BEGIN:VEVENT
DTSTAMP:20150730T130000Z
ORGANIZER;CN=Gorrick MBC:MAILTO:
STATUS:CONFIRMED
UID:MORESPORTSNETWORK6702
DTSTART:20251130T080000+0000
DTEND:20251130T120000+0000
SUMMARY:Brass Monkey 1 The Christmas Classic
DESCRIPTION:Brass Monkey 1 The Christmas Classic - more details: https://www.moredirt.com/event/6702
X-ALT-DESC;FMTTYPE=text/html:Brass Monkey 1 The Christmas Classic - more details: https://www.moredirt.com/event/6702
LOCATION:
END:VEVENT
END:VCALENDAR