BEGIN:VCALENDAR
VERSION:2.0
PRODID:-//MoreDirt v1.0//EN
BEGIN:VEVENT
DTSTAMP:20150730T130000Z
ORGANIZER;CN=Martyn Salt:MAILTO:
STATUS:CONFIRMED
UID:MORESPORTSNETWORK66
DTSTART:20110326T080000+0000
DTEND:20110327T120000Z
SUMMARY:British XC Mountain Bike Series RD 1
DESCRIPTION:British XC Mountain Bike Series RD 1 - more details: https://www.moredirt.com/event/66
X-ALT-DESC;FMTTYPE=text/html:British XC Mountain Bike Series RD 1 - more details: https://www.moredirt.com/event/66
LOCATION:
END:VEVENT
END:VCALENDAR