BEGIN:VCALENDAR
VERSION:2.0
PRODID:-//MoreDirt v1.0//EN
BEGIN:VEVENT
DTSTAMP:20150730T130000Z
ORGANIZER;CN=Nevis Range:MAILTO:
STATUS:CONFIRMED
UID:MORESPORTSNETWORK6689
DTSTART:20251108T080000+0000
DTEND:20251108T120000+0000
SUMMARY:Mini Blazers
DESCRIPTION:Mini Blazers - more details: https://www.moredirt.com/event/6689
X-ALT-DESC;FMTTYPE=text/html:Mini Blazers - more details: https://www.moredirt.com/event/6689
LOCATION:
END:VEVENT
END:VCALENDAR