BEGIN:VCALENDAR
VERSION:2.0
PRODID:-//MoreDirt v1.0//EN
BEGIN:VEVENT
DTSTAMP:20150730T130000Z
ORGANIZER;CN=Nevis Range:MAILTO:
STATUS:CONFIRMED
UID:MORESPORTSNETWORK6688
DTSTART:20251108T080000+0000
DTEND:20251108T120000+0000
SUMMARY:Trail Blazers Enduro
DESCRIPTION:Trail Blazers Enduro - more details: https://www.moredirt.com/event/6688
X-ALT-DESC;FMTTYPE=text/html:Trail Blazers Enduro - more details: https://www.moredirt.com/event/6688
LOCATION:
END:VEVENT
END:VCALENDAR