BEGIN:VCALENDAR
VERSION:2.0
PRODID:-//MoreDirt v1.0//EN
BEGIN:VEVENT
DTSTAMP:20150730T130000Z
ORGANIZER;CN=SheRides Collective:MAILTO:
STATUS:CONFIRMED
UID:MORESPORTSNETWORK6678
DTSTART:20250614T080000Z
DTEND:20250614T120000Z
SUMMARY:SheRides - Twisted Oaks Social Ride
DESCRIPTION:SheRides - Twisted Oaks Social Ride - more details: https://www.moredirt.com/event/6678
X-ALT-DESC;FMTTYPE=text/html:SheRides - Twisted Oaks Social Ride - more details: https://www.moredirt.com/event/6678
LOCATION:
END:VEVENT
END:VCALENDAR