BEGIN:VCALENDAR
VERSION:2.0
PRODID:-//MoreDirt v1.0//EN
BEGIN:VEVENT
DTSTAMP:20150730T130000Z
ORGANIZER;CN=Eventrex UK:MAILTO:
STATUS:CONFIRMED
UID:MORESPORTSNETWORK6675
DTSTART:20250608T080000Z
DTEND:20250608T120000Z
SUMMARY:Gravel Rush
DESCRIPTION:Gravel Rush - more details: https://www.moredirt.com/event/6675
X-ALT-DESC;FMTTYPE=text/html:Gravel Rush - more details: https://www.moredirt.com/event/6675
LOCATION:
END:VEVENT
END:VCALENDAR