BEGIN:VCALENDAR
VERSION:2.0
PRODID:-//MoreDirt v1.0//EN
BEGIN:VEVENT
DTSTAMP:20150730T130000Z
ORGANIZER;CN=Hidden Tracks Cycling Ltd:MAILTO:
STATUS:CONFIRMED
UID:MORESPORTSNETWORK6674
DTSTART:20250927T080000Z
DTEND:20250927T120000Z
SUMMARY:Wolfe Grit
DESCRIPTION:Wolfe Grit - more details: https://www.moredirt.com/event/6674
X-ALT-DESC;FMTTYPE=text/html:Wolfe Grit - more details: https://www.moredirt.com/event/6674
LOCATION:
END:VEVENT
END:VCALENDAR