BEGIN:VCALENDAR
VERSION:2.0
PRODID:-//MoreDirt v1.0//EN
BEGIN:VEVENT
DTSTAMP:20150730T130000Z
ORGANIZER;CN=Glorious Gravel:MAILTO:
STATUS:CONFIRMED
UID:MORESPORTSNETWORK6656
DTSTART:20250713T080000Z
DTEND:20250713T120000Z
SUMMARY:Wight Roads Gravel Epic
DESCRIPTION:Wight Roads Gravel Epic - more details: https://www.moredirt.com/event/6656
X-ALT-DESC;FMTTYPE=text/html:Wight Roads Gravel Epic - more details: https://www.moredirt.com/event/6656
LOCATION:
END:VEVENT
END:VCALENDAR