BEGIN:VCALENDAR
VERSION:2.0
PRODID:-//MoreDirt v1.0//EN
BEGIN:VEVENT
DTSTAMP:20150730T130000Z
ORGANIZER;CN=Gravity Project:MAILTO:
STATUS:CONFIRMED
UID:MORESPORTSNETWORK664
DTSTART:20130601T080000Z
DTEND:20130602T120000Z
SUMMARY:Gravity Project Honey Series 2013  - Round 4 QECP
DESCRIPTION:Gravity Project Honey Series 2013  - Round 4 QECP - more details: https://www.moredirt.com/event/664
X-ALT-DESC;FMTTYPE=text/html:Gravity Project Honey Series 2013  - Round 4 QECP - more details: https://www.moredirt.com/event/664
LOCATION:
END:VEVENT
END:VCALENDAR