BEGIN:VCALENDAR
VERSION:2.0
PRODID:-//MoreDirt v1.0//EN
BEGIN:VEVENT
DTSTAMP:20150730T130000Z
ORGANIZER;CN=Glorious Gravel:MAILTO:
STATUS:CONFIRMED
UID:MORESPORTSNETWORK6649
DTSTART:20250927T080000Z
DTEND:20250927T120000Z
SUMMARY:North Downs Gravel X
DESCRIPTION:North Downs Gravel X - more details: https://www.moredirt.com/event/6649
X-ALT-DESC;FMTTYPE=text/html:North Downs Gravel X - more details: https://www.moredirt.com/event/6649
LOCATION:
END:VEVENT
END:VCALENDAR