BEGIN:VCALENDAR
VERSION:2.0
PRODID:-//MoreDirt v1.0//EN
BEGIN:VEVENT
DTSTAMP:20150730T130000Z
ORGANIZER;CN=Wheelbase Cycles:MAILTO:
STATUS:CONFIRMED
UID:MORESPORTSNETWORK6644
DTSTART:20250614T080000Z
DTEND:20250614T120000Z
SUMMARY:Staveley 3 Valleys MB Challenge (3VC)
DESCRIPTION:Staveley 3 Valleys MB Challenge (3VC) - more details: https://www.moredirt.com/event/6644
X-ALT-DESC;FMTTYPE=text/html:Staveley 3 Valleys MB Challenge (3VC) - more details: https://www.moredirt.com/event/6644
LOCATION:
END:VEVENT
END:VCALENDAR