BEGIN:VCALENDAR
VERSION:2.0
PRODID:-//MoreDirt v1.0//EN
BEGIN:VEVENT
DTSTAMP:20150730T130000Z
ORGANIZER;CN=SheRides Collective:MAILTO:
STATUS:CONFIRMED
UID:MORESPORTSNETWORK6621
DTSTART:20250427T080000Z
DTEND:20250427T120000Z
SUMMARY:SheRides - South Lakes: Torver
DESCRIPTION:SheRides - South Lakes: Torver - more details: https://www.moredirt.com/event/6621
X-ALT-DESC;FMTTYPE=text/html:SheRides - South Lakes: Torver - more details: https://www.moredirt.com/event/6621
LOCATION:
END:VEVENT
END:VCALENDAR