BEGIN:VCALENDAR
VERSION:2.0
PRODID:-//MoreDirt v1.0//EN
BEGIN:VEVENT
DTSTAMP:20150730T130000Z
ORGANIZER;CN=Brownbacks:MAILTO:
STATUS:CONFIRMED
UID:MORESPORTSNETWORK656
DTSTART:20130707T080000Z
DTEND:20130707T120000Z
SUMMARY:Hope Cross Country Race Series 2013 - Round 2
DESCRIPTION:Hope Cross Country Race Series 2013 - Round 2 - more details: https://www.moredirt.com/event/656
X-ALT-DESC;FMTTYPE=text/html:Hope Cross Country Race Series 2013 - Round 2 - more details: https://www.moredirt.com/event/656
LOCATION:
END:VEVENT
END:VCALENDAR