BEGIN:VCALENDAR
VERSION:2.0
PRODID:-//MoreDirt v1.0//EN
BEGIN:VEVENT
DTSTAMP:20150730T130000Z
ORGANIZER;CN=North East XC MTB Series:MAILTO:
STATUS:CONFIRMED
UID:MORESPORTSNETWORK6563
DTSTART:20250412T080000Z
DTEND:20250412T120000Z
SUMMARY:North East XC MTB Series Round 1 2025
DESCRIPTION:North East XC MTB Series Round 1 2025 - more details: https://www.moredirt.com/event/6563
X-ALT-DESC;FMTTYPE=text/html:North East XC MTB Series Round 1 2025 - more details: https://www.moredirt.com/event/6563
LOCATION:
END:VEVENT
END:VCALENDAR