BEGIN:VCALENDAR
VERSION:2.0
PRODID:-//MoreDirt v1.0//EN
BEGIN:VEVENT
DTSTAMP:20150730T130000Z
ORGANIZER;CN=Mud and Sweat:MAILTO:
STATUS:CONFIRMED
UID:MORESPORTSNETWORK651
DTSTART:20130414T080000Z
DTEND:20130414T120000Z
SUMMARY:Mud and Sweat - Mountain Bike Navigation Event
DESCRIPTION:Mud and Sweat - Mountain Bike Navigation Event - more details: https://www.moredirt.com/event/651
X-ALT-DESC;FMTTYPE=text/html:Mud and Sweat - Mountain Bike Navigation Event - more details: https://www.moredirt.com/event/651
LOCATION:
END:VEVENT
END:VCALENDAR