BEGIN:VCALENDAR
VERSION:2.0
PRODID:-//MoreDirt v1.0//EN
BEGIN:VEVENT
DTSTAMP:20150730T130000Z
ORGANIZER;CN=Hurtwood Events:MAILTO:
STATUS:CONFIRMED
UID:MORESPORTSNETWORK6442
DTSTART:20250705T080000Z
DTEND:20250705T120000Z
SUMMARY:Hurtwood Enduro 2025 - Surrey Hills
DESCRIPTION:Hurtwood Enduro 2025 - Surrey Hills - more details: https://www.moredirt.com/event/6442
X-ALT-DESC;FMTTYPE=text/html:Hurtwood Enduro 2025 - Surrey Hills - more details: https://www.moredirt.com/event/6442
LOCATION:
END:VEVENT
END:VCALENDAR