BEGIN:VCALENDAR
VERSION:2.0
PRODID:-//MoreDirt v1.0//EN
BEGIN:VEVENT
DTSTAMP:20150730T130000Z
ORGANIZER;CN=Tayside Trail Association:MAILTO:
STATUS:CONFIRMED
UID:MORESPORTSNETWORK6410
DTSTART:20241215T080000+0000
DTEND:20241215T120000+0000
SUMMARY:Pitmedden Dig Day - Tayside Trail Association
DESCRIPTION:Pitmedden Dig Day - Tayside Trail Association - more details: https://www.moredirt.com/event/6410
X-ALT-DESC;FMTTYPE=text/html:Pitmedden Dig Day - Tayside Trail Association - more details: https://www.moredirt.com/event/6410
LOCATION:
END:VEVENT
END:VCALENDAR