BEGIN:VCALENDAR
VERSION:2.0
PRODID:-//MoreDirt v1.0//EN
BEGIN:VEVENT
DTSTAMP:20150730T130000Z
ORGANIZER;CN=Wheelbase Cycles:MAILTO:
STATUS:CONFIRMED
UID:MORESPORTSNETWORK6406
DTSTART:20241213T080000+0000
DTEND:20241213T120000+0000
SUMMARY:Wheelbase Santa Ride
DESCRIPTION:Wheelbase Santa Ride - more details: https://www.moredirt.com/event/6406
X-ALT-DESC;FMTTYPE=text/html:Wheelbase Santa Ride - more details: https://www.moredirt.com/event/6406
LOCATION:
END:VEVENT
END:VCALENDAR