BEGIN:VCALENDAR
VERSION:2.0
PRODID:-//MoreDirt v1.0//EN
BEGIN:VEVENT
DTSTAMP:20150730T130000Z
ORGANIZER;CN=Tarland Trails:MAILTO:
STATUS:CONFIRMED
UID:MORESPORTSNETWORK6401
DTSTART:20241124T080000+0000
DTEND:20241124T120000+0000
SUMMARY:Project Mushroom - Tarland Trails Dig Day
DESCRIPTION:Project Mushroom - Tarland Trails Dig Day - more details: https://www.moredirt.com/event/6401
X-ALT-DESC;FMTTYPE=text/html:Project Mushroom - Tarland Trails Dig Day - more details: https://www.moredirt.com/event/6401
LOCATION:
END:VEVENT
END:VCALENDAR