BEGIN:VCALENDAR
VERSION:2.0
PRODID:-//MoreDirt v1.0//EN
BEGIN:VEVENT
DTSTAMP:20150730T130000Z
ORGANIZER;CN=Ready Set Go Adventures:MAILTO:
STATUS:CONFIRMED
UID:MORESPORTSNETWORK6399
DTSTART:20241201T080000+0000
DTEND:20241201T120000+0000
SUMMARY:Frosty Woods MTB Race
DESCRIPTION:Frosty Woods MTB Race - more details: https://www.moredirt.com/event/6399
X-ALT-DESC;FMTTYPE=text/html:Frosty Woods MTB Race - more details: https://www.moredirt.com/event/6399
LOCATION:
END:VEVENT
END:VCALENDAR