BEGIN:VCALENDAR
VERSION:2.0
PRODID:-//MoreDirt v1.0//EN
BEGIN:VEVENT
DTSTAMP:20150730T130000Z
ORGANIZER;CN=TBF Racing:MAILTO:
STATUS:CONFIRMED
UID:MORESPORTSNETWORK6382
DTSTART:20250323T080000+0000
DTEND:20250323T120000+0000
SUMMARY:MTB Championship–Cross-Country Mountain Bike Racing
DESCRIPTION:MTB Championship–Cross-Country Mountain Bike Racing - more details: https://www.moredirt.com/event/6382
X-ALT-DESC;FMTTYPE=text/html:MTB Championship–Cross-Country Mountain Bike Racing - more details: https://www.moredirt.com/event/6382
LOCATION:
END:VEVENT
END:VCALENDAR