BEGIN:VCALENDAR
VERSION:2.0
PRODID:-//MoreDirt v1.0//EN
BEGIN:VEVENT
DTSTAMP:20150730T130000Z
ORGANIZER;CN=TBF Racing:MAILTO:
STATUS:CONFIRMED
UID:MORESPORTSNETWORK6381
DTSTART:20250309T080000+0000
DTEND:20250309T120000+0000
SUMMARY:MTB Showdown–Cross-Country Mountain Bike Racing
DESCRIPTION:MTB Showdown–Cross-Country Mountain Bike Racing - more details: https://www.moredirt.com/event/6381
X-ALT-DESC;FMTTYPE=text/html:MTB Showdown–Cross-Country Mountain Bike Racing - more details: https://www.moredirt.com/event/6381
LOCATION:
END:VEVENT
END:VCALENDAR