BEGIN:VCALENDAR
VERSION:2.0
PRODID:-//MoreDirt v1.0//EN
BEGIN:VEVENT
DTSTAMP:20150730T130000Z
ORGANIZER;CN=TBF Racing:MAILTO:
STATUS:CONFIRMED
UID:MORESPORTSNETWORK6380
DTSTART:20250223T080000+0000
DTEND:20250223T120000+0000
SUMMARY:MTB Madness–Cross-Country Mountain Bike Racing
DESCRIPTION:MTB Madness–Cross-Country Mountain Bike Racing - more details: https://www.moredirt.com/event/6380
X-ALT-DESC;FMTTYPE=text/html:MTB Madness–Cross-Country Mountain Bike Racing - more details: https://www.moredirt.com/event/6380
LOCATION:
END:VEVENT
END:VCALENDAR