BEGIN:VCALENDAR
VERSION:2.0
PRODID:-//MoreDirt v1.0//EN
BEGIN:VEVENT
DTSTAMP:20150730T130000Z
ORGANIZER;CN=WyeMTB:MAILTO:
STATUS:CONFIRMED
UID:MORESPORTSNETWORK6374
DTSTART:20241124T080000+0000
DTEND:20241124T120000+0000
SUMMARY:The Black Mountains Bomb
DESCRIPTION:The Black Mountains Bomb - more details: https://www.moredirt.com/event/6374
X-ALT-DESC;FMTTYPE=text/html:The Black Mountains Bomb - more details: https://www.moredirt.com/event/6374
LOCATION:
END:VEVENT
END:VCALENDAR