BEGIN:VCALENDAR
VERSION:2.0
PRODID:-//MoreDirt v1.0//EN
BEGIN:VEVENT
DTSTAMP:20150730T130000Z
ORGANIZER;CN=SheRides Collective:MAILTO:
STATUS:CONFIRMED
UID:MORESPORTSNETWORK6371
DTSTART:20241117T080000+0000
DTEND:20241117T120000+0000
SUMMARY:SheRides - Rogate B1KE Park
DESCRIPTION:SheRides - Rogate B1KE Park - more details: https://www.moredirt.com/event/6371
X-ALT-DESC;FMTTYPE=text/html:SheRides - Rogate B1KE Park - more details: https://www.moredirt.com/event/6371
LOCATION:
END:VEVENT
END:VCALENDAR