BEGIN:VCALENDAR
VERSION:2.0
PRODID:-//MoreDirt v1.0//EN
BEGIN:VEVENT
DTSTAMP:20150730T130000Z
ORGANIZER;CN=SheRides Collective:MAILTO:
STATUS:CONFIRMED
UID:MORESPORTSNETWORK6370
DTSTART:20241110T080000+0000
DTEND:20241110T120000+0000
SUMMARY:SheRides - Gisburn Forest
DESCRIPTION:SheRides - Gisburn Forest - more details: https://www.moredirt.com/event/6370
X-ALT-DESC;FMTTYPE=text/html:SheRides - Gisburn Forest - more details: https://www.moredirt.com/event/6370
LOCATION:
END:VEVENT
END:VCALENDAR