BEGIN:VCALENDAR
VERSION:2.0
PRODID:-//MoreDirt v1.0//EN
BEGIN:VEVENT
DTSTAMP:20150730T130000Z
ORGANIZER;CN=Fireride Events:MAILTO:
STATUS:CONFIRMED
UID:MORESPORTSNETWORK6358
DTSTART:20241207T080000+0000
DTEND:20241207T120000+0000
SUMMARY:Fireride Christmas Party Ride
DESCRIPTION:Fireride Christmas Party Ride - more details: https://www.moredirt.com/event/6358
X-ALT-DESC;FMTTYPE=text/html:Fireride Christmas Party Ride - more details: https://www.moredirt.com/event/6358
LOCATION:
END:VEVENT
END:VCALENDAR