BEGIN:VCALENDAR
VERSION:2.0
PRODID:-//MoreDirt v1.0//EN
BEGIN:VEVENT
DTSTAMP:20150730T130000Z
ORGANIZER;CN=Spider Mountain Bike Park:MAILTO:
STATUS:CONFIRMED
UID:MORESPORTSNETWORK6342
DTSTART:20260110T080000+0000
DTEND:20260110T120000+0000
SUMMARY:Hill Country Downhill Series #1
DESCRIPTION:Hill Country Downhill Series #1 - more details: https://www.moredirt.com/event/6342
X-ALT-DESC;FMTTYPE=text/html:Hill Country Downhill Series #1 - more details: https://www.moredirt.com/event/6342
LOCATION:
END:VEVENT
END:VCALENDAR