BEGIN:VCALENDAR
VERSION:2.0
PRODID:-//MoreDirt v1.0//EN
BEGIN:VEVENT
DTSTAMP:20150730T130000Z
ORGANIZER;CN=Rockshox:MAILTO:
STATUS:CONFIRMED
UID:MORESPORTSNETWORK6337
DTSTART:20250912T080000Z
DTEND:20250914T120000Z
SUMMARY:RockShox Tuning Tour 2025 - BikePark Wales
DESCRIPTION:RockShox Tuning Tour 2025 - BikePark Wales - more details: https://www.moredirt.com/event/6337
X-ALT-DESC;FMTTYPE=text/html:RockShox Tuning Tour 2025 - BikePark Wales - more details: https://www.moredirt.com/event/6337
LOCATION:
END:VEVENT
END:VCALENDAR