BEGIN:VCALENDAR
VERSION:2.0
PRODID:-//MoreDirt v1.0//EN
BEGIN:VEVENT
DTSTAMP:20150730T130000Z
ORGANIZER;CN=Dean Trail Volunteers:MAILTO:
STATUS:CONFIRMED
UID:MORESPORTSNETWORK6327
DTSTART:20241124T080000+0000
DTEND:20241124T120000+0000
SUMMARY:Women's Dig with Dean Trail Volunteers
DESCRIPTION:Women's Dig with Dean Trail Volunteers - more details: https://www.moredirt.com/event/6327
X-ALT-DESC;FMTTYPE=text/html:Women's Dig with Dean Trail Volunteers - more details: https://www.moredirt.com/event/6327
LOCATION:
END:VEVENT
END:VCALENDAR