BEGIN:VCALENDAR
VERSION:2.0
PRODID:-//MoreDirt v1.0//EN
BEGIN:VEVENT
DTSTAMP:20150730T130000Z
ORGANIZER;CN=Dean Trail Volunteers:MAILTO:
STATUS:CONFIRMED
UID:MORESPORTSNETWORK6324
DTSTART:20241116T080000+0000
DTEND:20241116T120000+0000
SUMMARY:Dig Saturday with Dean Trail Volunteers
DESCRIPTION:Dig Saturday with Dean Trail Volunteers - more details: https://www.moredirt.com/event/6324
X-ALT-DESC;FMTTYPE=text/html:Dig Saturday with Dean Trail Volunteers - more details: https://www.moredirt.com/event/6324
LOCATION:
END:VEVENT
END:VCALENDAR