BEGIN:VCALENDAR
VERSION:2.0
PRODID:-//MoreDirt v1.0//EN
BEGIN:VEVENT
DTSTAMP:20150730T130000Z
ORGANIZER;CN=PEGASUS MTB:MAILTO:
STATUS:CONFIRMED
UID:MORESPORTSNETWORK6311
DTSTART:20241005T080000Z
DTEND:20241005T120000Z
SUMMARY:Jumping N Dropping
DESCRIPTION:Jumping N Dropping - more details: https://www.moredirt.com/event/6311
X-ALT-DESC;FMTTYPE=text/html:Jumping N Dropping - more details: https://www.moredirt.com/event/6311
LOCATION:
END:VEVENT
END:VCALENDAR