BEGIN:VCALENDAR
VERSION:2.0
PRODID:-//MoreDirt v1.0//EN
BEGIN:VEVENT
DTSTAMP:20150730T130000Z
ORGANIZER;CN=Kings Lynn MTB:MAILTO:
STATUS:CONFIRMED
UID:MORESPORTSNETWORK6309
DTSTART:20241117T080000+0000
DTEND:20241117T120000+0000
SUMMARY:KLMTB Shouldham XC Charity Race
DESCRIPTION:KLMTB Shouldham XC Charity Race - more details: https://www.moredirt.com/event/6309
X-ALT-DESC;FMTTYPE=text/html:KLMTB Shouldham XC Charity Race - more details: https://www.moredirt.com/event/6309
LOCATION:
END:VEVENT
END:VCALENDAR