BEGIN:VCALENDAR
VERSION:2.0
PRODID:-//MoreDirt v1.0//EN
BEGIN:VEVENT
DTSTAMP:20150730T130000Z
ORGANIZER;CN=QE Cycle Fest:MAILTO:
STATUS:CONFIRMED
UID:MORESPORTSNETWORK629
DTSTART:20130518T080000Z
DTEND:20130518T120000Z
SUMMARY:QE Cycle Fest - Steven Trail Enduro
DESCRIPTION:QE Cycle Fest - Steven Trail Enduro - more details: https://www.moredirt.com/event/629
X-ALT-DESC;FMTTYPE=text/html:QE Cycle Fest - Steven Trail Enduro - more details: https://www.moredirt.com/event/629
LOCATION:
END:VEVENT
END:VCALENDAR