BEGIN:VCALENDAR
VERSION:2.0
PRODID:-//MoreDirt v1.0//EN
BEGIN:VEVENT
DTSTAMP:20150730T130000Z
ORGANIZER;CN=South West Cyclo-Cross:MAILTO:
STATUS:CONFIRMED
UID:MORESPORTSNETWORK6296
DTSTART:20241110T080000+0000
DTEND:20241110T120000+0000
SUMMARY:SWCX 2024/25 Round 6
DESCRIPTION:SWCX 2024/25 Round 6 - more details: https://www.moredirt.com/event/6296
X-ALT-DESC;FMTTYPE=text/html:SWCX 2024/25 Round 6 - more details: https://www.moredirt.com/event/6296
LOCATION:
END:VEVENT
END:VCALENDAR