BEGIN:VCALENDAR
VERSION:2.0
PRODID:-//MoreDirt v1.0//EN
BEGIN:VEVENT
DTSTAMP:20150730T130000Z
ORGANIZER;CN=South West Cyclo-Cross:MAILTO:
STATUS:CONFIRMED
UID:MORESPORTSNETWORK6295
DTSTART:20241020T080000Z
DTEND:20241020T120000Z
SUMMARY:SWCX 2024/25 Round 4
DESCRIPTION:SWCX 2024/25 Round 4 - more details: https://www.moredirt.com/event/6295
X-ALT-DESC;FMTTYPE=text/html:SWCX 2024/25 Round 4 - more details: https://www.moredirt.com/event/6295
LOCATION:
END:VEVENT
END:VCALENDAR