BEGIN:VCALENDAR
VERSION:2.0
PRODID:-//MoreDirt v1.0//EN
BEGIN:VEVENT
DTSTAMP:20150730T130000Z
ORGANIZER;CN=CDPP:MAILTO:
STATUS:CONFIRMED
UID:MORESPORTSNETWORK6287
DTSTART:20241020T080000Z
DTEND:20241020T120000Z
SUMMARY:NWCCA 2024/25 Round 5 - Towneley Park
DESCRIPTION:NWCCA 2024/25 Round 5 - Towneley Park - more details: https://www.moredirt.com/event/6287
X-ALT-DESC;FMTTYPE=text/html:NWCCA 2024/25 Round 5 - Towneley Park - more details: https://www.moredirt.com/event/6287
LOCATION:
END:VEVENT
END:VCALENDAR