BEGIN:VCALENDAR
VERSION:2.0
PRODID:-//MoreDirt v1.0//EN
BEGIN:VEVENT
DTSTAMP:20150730T130000Z
ORGANIZER;CN=SheRides Collective:MAILTO:
STATUS:CONFIRMED
UID:MORESPORTSNETWORK6284
DTSTART:20241026T080000Z
DTEND:20241026T120000Z
SUMMARY:SheRides - Laggan Wolftrax
DESCRIPTION:SheRides - Laggan Wolftrax - more details: https://www.moredirt.com/event/6284
X-ALT-DESC;FMTTYPE=text/html:SheRides - Laggan Wolftrax - more details: https://www.moredirt.com/event/6284
LOCATION:
END:VEVENT
END:VCALENDAR