BEGIN:VCALENDAR
VERSION:2.0
PRODID:-//MoreDirt v1.0//EN
BEGIN:VEVENT
DTSTAMP:20150730T130000Z
ORGANIZER;CN=SheRides Collective:MAILTO:
STATUS:CONFIRMED
UID:MORESPORTSNETWORK6282
DTSTART:20241124T080000+0000
DTEND:20241124T120000+0000
SUMMARY:SheRides - Dalby Forest
DESCRIPTION:SheRides - Dalby Forest - more details: https://www.moredirt.com/event/6282
X-ALT-DESC;FMTTYPE=text/html:SheRides - Dalby Forest - more details: https://www.moredirt.com/event/6282
LOCATION:
END:VEVENT
END:VCALENDAR