BEGIN:VCALENDAR
VERSION:2.0
PRODID:-//MoreDirt v1.0//EN
BEGIN:VEVENT
DTSTAMP:20150730T130000Z
ORGANIZER;CN=SheRides Collective:MAILTO:
STATUS:CONFIRMED
UID:MORESPORTSNETWORK6281
DTSTART:20241006T080000Z
DTEND:20241006T120000Z
SUMMARY:SheRides - LLandegla - OnePlanet Adventure
DESCRIPTION:SheRides - LLandegla - OnePlanet Adventure - more details: https://www.moredirt.com/event/6281
X-ALT-DESC;FMTTYPE=text/html:SheRides - LLandegla - OnePlanet Adventure - more details: https://www.moredirt.com/event/6281
LOCATION:
END:VEVENT
END:VCALENDAR