BEGIN:VCALENDAR
VERSION:2.0
PRODID:-//MoreDirt v1.0//EN
BEGIN:VEVENT
DTSTAMP:20150730T130000Z
ORGANIZER;CN=YT Industries:MAILTO:
STATUS:CONFIRMED
UID:MORESPORTSNETWORK6265
DTSTART:20240901T080000Z
DTEND:20240901T120000Z
SUMMARY:YTF at QECP
DESCRIPTION:YTF at QECP - more details: https://www.moredirt.com/event/6265
X-ALT-DESC;FMTTYPE=text/html:YTF at QECP - more details: https://www.moredirt.com/event/6265
LOCATION:
END:VEVENT
END:VCALENDAR