BEGIN:VCALENDAR
VERSION:2.0
PRODID:-//MoreDirt v1.0//EN
BEGIN:VEVENT
DTSTAMP:20150730T130000Z
ORGANIZER;CN=Arkansas Enduro Series:MAILTO:
STATUS:CONFIRMED
UID:MORESPORTSNETWORK6263
DTSTART:20241122T080000+0000
DTEND:20241124T120000+0000
SUMMARY:Arkansas Enduro Series - Round 4
DESCRIPTION:Arkansas Enduro Series - Round 4 - more details: https://www.moredirt.com/event/6263
X-ALT-DESC;FMTTYPE=text/html:Arkansas Enduro Series - Round 4 - more details: https://www.moredirt.com/event/6263
LOCATION:
END:VEVENT
END:VCALENDAR