BEGIN:VCALENDAR
VERSION:2.0
PRODID:-//MoreDirt v1.0//EN
BEGIN:VEVENT
DTSTAMP:20150730T130000Z
ORGANIZER;CN=Trail Bloom:MAILTO:
STATUS:CONFIRMED
UID:MORESPORTSNETWORK6262
DTSTART:20240907T080000Z
DTEND:20240907T120000Z
SUMMARY:Sherwood Pines MTB Ladies Day - Hosted by Trail Bloom
DESCRIPTION:Sherwood Pines MTB Ladies Day - Hosted by Trail Bloom - more details: https://www.moredirt.com/event/6262
X-ALT-DESC;FMTTYPE=text/html:Sherwood Pines MTB Ladies Day - Hosted by Trail Bloom - more details: https://www.moredirt.com/event/6262
LOCATION:
END:VEVENT
END:VCALENDAR