BEGIN:VCALENDAR
VERSION:2.0
PRODID:-//MoreDirt v1.0//EN
BEGIN:VEVENT
DTSTAMP:20150730T130000Z
ORGANIZER;CN=Bike Park Wales:MAILTO:
STATUS:CONFIRMED
UID:MORESPORTSNETWORK6251
DTSTART:20240915T080000Z
DTEND:20240915T120000Z
SUMMARY:Women's Day - Bike Park Wales
DESCRIPTION:Women's Day - Bike Park Wales - more details: https://www.moredirt.com/event/6251
X-ALT-DESC;FMTTYPE=text/html:Women's Day - Bike Park Wales - more details: https://www.moredirt.com/event/6251
LOCATION:
END:VEVENT
END:VCALENDAR