BEGIN:VCALENDAR
VERSION:2.0
PRODID:-//MoreDirt v1.0//EN
BEGIN:VEVENT
DTSTAMP:20150730T130000Z
ORGANIZER;CN=Falkirk Junior Bike Club:MAILTO:
STATUS:CONFIRMED
UID:MORESPORTSNETWORK6243
DTSTART:20240906T080000Z
DTEND:20240906T120000Z
SUMMARY:FJBC Zetland Park Autumn Pump Track Series Round 1
DESCRIPTION:FJBC Zetland Park Autumn Pump Track Series Round 1 - more details: https://www.moredirt.com/event/6243
X-ALT-DESC;FMTTYPE=text/html:FJBC Zetland Park Autumn Pump Track Series Round 1 - more details: https://www.moredirt.com/event/6243
LOCATION:
END:VEVENT
END:VCALENDAR