BEGIN:VCALENDAR
VERSION:2.0
PRODID:-//MoreDirt v1.0//EN
BEGIN:VEVENT
DTSTAMP:20150730T130000Z
ORGANIZER;CN=Okeford Hill Bike Park:MAILTO:
STATUS:CONFIRMED
UID:MORESPORTSNETWORK6240
DTSTART:20240929T080000Z
DTEND:20240929T120000Z
SUMMARY:Duck Soup Downhill
DESCRIPTION:Duck Soup Downhill - more details: https://www.moredirt.com/event/6240
X-ALT-DESC;FMTTYPE=text/html:Duck Soup Downhill - more details: https://www.moredirt.com/event/6240
LOCATION:
END:VEVENT
END:VCALENDAR